BEGIN:VCALENDAR
VERSION:2.0
CALSCALE:GREGORIAN
BEGIN:VTIMEZONE
TZID:Europe/Berlin
BEGIN:DAYLIGHT
TZOFFSETFROM:+0100
TZOFFSETTO:+0200
DTSTART:19810329T020000
RRULE:FREQ=YEARLY;INTERVAL=1;BYMONTH=3;BYDAY=-1SU
TZNAME:CEST
END:DAYLIGHT
BEGIN:STANDARD
TZOFFSETFROM:+0200
TZOFFSETTO:+0100
DTSTART:19961027T030000
RRULE:FREQ=YEARLY;INTERVAL=1;BYMONTH=10;BYDAY=-1SU
TZNAME:CET
END:STANDARD
END:VTIMEZONE
BEGIN:VEVENT
UID:69e5e4efb6647
DTSTAMP:20260420T103351
URL;VALUE=URI:https://www.hospitalhof.de/programm/070726-die-bipolare-nation/?cookie_test=1
SUMMARY:Die bipolare Nation
DESCRIPTION:Was Amerika der Welt gegeben hat\nMit Prof. Dr. Philipp Gassert
LOCATION:Hospitalhof Stuttgart\, Büchsenstr. 33\, 70174 Stuttgart
DTSTART;TZID=Europe/Berlin:20260707T190000
DTEND;TZID=Europe/Berlin:20260707T203000
END:VEVENT
END:VCALENDAR