BEGIN:VCALENDAR
VERSION:2.0
CALSCALE:GREGORIAN
BEGIN:VTIMEZONE
TZID:Europe/Berlin
BEGIN:DAYLIGHT
TZOFFSETFROM:+0100
TZOFFSETTO:+0200
DTSTART:19810329T020000
RRULE:FREQ=YEARLY;INTERVAL=1;BYMONTH=3;BYDAY=-1SU
TZNAME:CEST
END:DAYLIGHT
BEGIN:STANDARD
TZOFFSETFROM:+0200
TZOFFSETTO:+0100
DTSTART:19961027T030000
RRULE:FREQ=YEARLY;INTERVAL=1;BYMONTH=10;BYDAY=-1SU
TZNAME:CET
END:STANDARD
END:VTIMEZONE
BEGIN:VEVENT
UID:69e5bc85f1f92
DTSTAMP:20260420T074125
URL;VALUE=URI:https://www.hospitalhof.de/programm/120526-der-stille-krieg/
SUMMARY:Der stille Krieg
DESCRIPTION:Wie Autokraten Deutschland angreifen\nMit Reinhard Bingener
LOCATION:Hospitalhof Stuttgart\, Büchsenstr. 33\, 70174 Stuttgart
DTSTART;TZID=Europe/Berlin:20260512T190000
DTEND;TZID=Europe/Berlin:20260512T203000
END:VEVENT
END:VCALENDAR